BEGIN:VCALENDAR
PRODID:-//Microsoft Corporation//Outlook 12.0 MIMEDIR//EN
VERSION:2.0
METHOD:PUBLISH
X-MS-OLK-FORCEINSPECTOROPEN:TRUE
BEGIN:VEVENT
CLASS:PUBLIC
X-ALT-DESC;FMTTYPE=text/html:<!DOCTYPE><HTML><BODY>Date: Wed. Sept. 27, 2017 <br><br>Time: 11:00 AM EDT / 8:00 AM PDT<br><br>On24 Webcast"https://event.on24.com/wcc/r/1483616/3EFD8152D0DE45F79A965EC36D7C18E7 <br><br>Join Professor David Simchi-Levi from MIT and the Oracle Retail Science Team to learn to use machine learning techniques to estimate historical lost sales and predict future demand of new items.</BODY></HTML>
DTEND:20170927T163000Z
DTSTART:20170927T150000Z
LOCATION:Webcast
PRIORITY:5
SEQUENCE:0
SUMMARY;LANGUAGE=en-us:Analytics and Machine Learning in Fashion Retail Industry: Demand Forecasting and Price Optimization
BEGIN:VALARM
TRIGGER:-PT1440M
ACTION:DISPLAY
DESCRIPTION:Reminder
END:VALARM
END:VEVENT
END:VCALENDAR